BEGIN:VCALENDAR
VERSION:2.0
PRODID:icalendar-ruby
CALSCALE:GREGORIAN
METHOD:PUBLISH
BEGIN:VEVENT
DTSTAMP:20260425T023056Z
UID:5-491272@maranathabtr.com
DTSTART:20261011T153000Z
DTEND:20261011T163000Z
CLASS:PUBLIC
CREATED:20260424T210346
DESCRIPTION:Sunday Worship
LAST-MODIFIED:20260424T210346
LOCATION:
SUMMARY:Sunday Worship
URL;VALUE=URI:https://maranathabtr.com/events/sunday-worship/2026-10-11
END:VEVENT
END:VCALENDAR
